BEGIN:VCALENDAR
VERSION:2.0
PRODID:-//EFA 01 - ECPv6.15.20//NONSGML v1.0//EN
CALSCALE:GREGORIAN
METHOD:PUBLISH
X-ORIGINAL-URL:https://adoption-efa01.org
X-WR-CALDESC:Évènements pour EFA 01
REFRESH-INTERVAL;VALUE=DURATION:PT1H
X-Robots-Tag:noindex
X-PUBLISHED-TTL:PT1H
BEGIN:VTIMEZONE
TZID:Europe/Paris
BEGIN:DAYLIGHT
TZOFFSETFROM:+0100
TZOFFSETTO:+0200
TZNAME:CEST
DTSTART:20250330T010000
END:DAYLIGHT
BEGIN:STANDARD
TZOFFSETFROM:+0200
TZOFFSETTO:+0100
TZNAME:CET
DTSTART:20251026T010000
END:STANDARD
BEGIN:DAYLIGHT
TZOFFSETFROM:+0100
TZOFFSETTO:+0200
TZNAME:CEST
DTSTART:20260329T010000
END:DAYLIGHT
BEGIN:STANDARD
TZOFFSETFROM:+0200
TZOFFSETTO:+0100
TZNAME:CET
DTSTART:20261025T010000
END:STANDARD
BEGIN:DAYLIGHT
TZOFFSETFROM:+0100
TZOFFSETTO:+0200
TZNAME:CEST
DTSTART:20270328T010000
END:DAYLIGHT
BEGIN:STANDARD
TZOFFSETFROM:+0200
TZOFFSETTO:+0100
TZNAME:CET
DTSTART:20271031T010000
END:STANDARD
END:VTIMEZONE
BEGIN:VEVENT
DTSTART;TZID=Europe/Paris:20260620T110000
DTEND;TZID=Europe/Paris:20260620T170000
DTSTAMP:20260425T191549
CREATED:20260325T121511Z
LAST-MODIFIED:20260325T121511Z
UID:512-1781953200-1781974800@adoption-efa01.org
SUMMARY:Sortie enfants - 20 juin 2026
DESCRIPTION:Nous vous proposons une sortie avec vos enfants à la Grange du Pin à partir de 11h.  \nUn pique-nique partagé type « Auberge espagnole » (chacun amène un plat et/ou une boisson à partager) est proposé. Nous offrirons un parcours d’accrobranche par enfant. Merci de vous inscrire avant le 31 mai.  \nInscription sur HelloAsso (lien à venir)
URL:https://adoption-efa01.org/index.php/event/sortie-enfants-20-juin-2026/
LOCATION:Grange du Pin 01370 Val-Revermont\, Grange du Pin\, Val-Revermont\, 01370\, France
END:VEVENT
END:VCALENDAR