BEGIN:VCALENDAR
VERSION:2.0
PRODID:-//EFA 01 - ECPv6.15.20//NONSGML v1.0//EN
CALSCALE:GREGORIAN
METHOD:PUBLISH
X-ORIGINAL-URL:https://adoption-efa01.org
X-WR-CALDESC:Évènements pour EFA 01
REFRESH-INTERVAL;VALUE=DURATION:PT1H
X-Robots-Tag:noindex
X-PUBLISHED-TTL:PT1H
BEGIN:VTIMEZONE
TZID:Europe/Paris
BEGIN:DAYLIGHT
TZOFFSETFROM:+0100
TZOFFSETTO:+0200
TZNAME:CEST
DTSTART:20230326T010000
END:DAYLIGHT
BEGIN:STANDARD
TZOFFSETFROM:+0200
TZOFFSETTO:+0100
TZNAME:CET
DTSTART:20231029T010000
END:STANDARD
BEGIN:DAYLIGHT
TZOFFSETFROM:+0100
TZOFFSETTO:+0200
TZNAME:CEST
DTSTART:20240331T010000
END:DAYLIGHT
BEGIN:STANDARD
TZOFFSETFROM:+0200
TZOFFSETTO:+0100
TZNAME:CET
DTSTART:20241027T010000
END:STANDARD
BEGIN:DAYLIGHT
TZOFFSETFROM:+0100
TZOFFSETTO:+0200
TZNAME:CEST
DTSTART:20250330T010000
END:DAYLIGHT
BEGIN:STANDARD
TZOFFSETFROM:+0200
TZOFFSETTO:+0100
TZNAME:CET
DTSTART:20251026T010000
END:STANDARD
BEGIN:DAYLIGHT
TZOFFSETFROM:+0100
TZOFFSETTO:+0200
TZNAME:CEST
DTSTART:20260329T010000
END:DAYLIGHT
BEGIN:STANDARD
TZOFFSETFROM:+0200
TZOFFSETTO:+0100
TZNAME:CET
DTSTART:20261025T010000
END:STANDARD
BEGIN:DAYLIGHT
TZOFFSETFROM:+0100
TZOFFSETTO:+0200
TZNAME:CEST
DTSTART:20270328T010000
END:DAYLIGHT
BEGIN:STANDARD
TZOFFSETFROM:+0200
TZOFFSETTO:+0100
TZNAME:CET
DTSTART:20271031T010000
END:STANDARD
END:VTIMEZONE
BEGIN:VEVENT
DTSTART;TZID=Europe/Paris:20260425T100000
DTEND;TZID=Europe/Paris:20260425T120000
DTSTAMP:20260425T154246
CREATED:20260310T072753Z
LAST-MODIFIED:20260310T073701Z
UID:500-1777111200-1777118400@adoption-efa01.org
SUMMARY:Café Adoption réservé aux parents adoptifs - 25/04/26
DESCRIPTION:Nous proposons un café réservé aux parents ayant déjà accueilli un enfant par adoption. Que vus ayez accueilli votre enfant récemment ou il y a plus longtemps\, venez partager vos questions\, votre cheminement\, vos victoires et vos batailles avec d’autres parents par adoption. ⚠️ Ce café sera exclusivement réservé aux parents ayant déjà accueilli un enfant\, aucun postulant ou personne en réflexion ne sera accepté. Nous vous remercions de votre compréhension. \n\n\n\nDeux heures d’échanges autour d’un café (ou d’un thé !)\, animés par des membres du CA de EFA01 accompagnés par Céline Moyenin\, psychologue. \n  \n⚠️ Nous vous demanderons de bien vouloir venir à l’heure car les portes de l’UDAF seront fermées à partir de 10h15 pour la sécurité de tous. \n⚠️ Nous serons dans une salle sans réseau et nous ne pourrons pas répondre aux demandes de participants qui trouveraient porte close. \n 
URL:https://adoption-efa01.org/index.php/event/cafe-adoption-reserve-aux-parents-adoptifs-25-04-26/
LOCATION:UDAF Bourg en Bresse\, rue de la liberte\, Bourg-en-Bresse\, 01000\, France
CATEGORIES:Café adoption
END:VEVENT
BEGIN:VEVENT
DTSTART;TZID=Europe/Paris:20260321T100000
DTEND;TZID=Europe/Paris:20260321T120000
DTSTAMP:20260425T154246
CREATED:20260310T072512Z
LAST-MODIFIED:20260310T073714Z
UID:497-1774087200-1774094400@adoption-efa01.org
SUMMARY:Café Adoption - 21/03/2026
DESCRIPTION:Venez rencontrer les membres de EFA01 et échanger autour de l’adoption le samedi 21 mars 2026 de 10h à 12h. Que vous soyez en réflexion sur votre projet d’adoption\, postulant.e.s agréé.e.s ou en cours d’agrément\, ou déjà parent.s\, cet espace d’échange bienveillant vous est ouvert. \n\n\n\nDeux heures d’échanges autour d’un café (ou d’un thé !)\, animés par des membres du CA de EFA01 accompagnés par Céline Moyenin\, psychologue\, autour de thèmes vairés : démarches administratives\, accueil de l’enfant\, difficultés rencontrées\, etc. \n  \n⚠️ Nous vous demanderons de bien vouloir venir à l’heure car les portes de l’UDAF seront fermées à partir de 10h15 pour la sécurité de tous. \n⚠️ Nous serons dans une salle sans réseau et nous ne pourrons pas répondre aux demandes de participants qui trouveraient porte close. \n 
URL:https://adoption-efa01.org/index.php/event/497/
LOCATION:UDAF Bourg en Bresse\, rue de la liberte\, Bourg-en-Bresse\, 01000\, France
CATEGORIES:Café adoption
END:VEVENT
BEGIN:VEVENT
DTSTART;TZID=Europe/Paris:20251213T100000
DTEND;TZID=Europe/Paris:20251213T120000
DTSTAMP:20260425T154246
CREATED:20250907T082304Z
LAST-MODIFIED:20250907T082725Z
UID:445-1765620000-1765627200@adoption-efa01.org
SUMMARY:Café adoption - EFA01 - 13/12/2025
DESCRIPTION:Venez rencontrer les membres de EFA01 et échanger autour de l’adoption le samedi 13 décembre 2025 de 10h à 12h. \nQue vous soyez en réflexion sur votre projet d’adoption\, postulant.e.s agréé.e.s ou en cours d’agrément\, ou déjà parent.s\, cet espace d’échange bienveillant vous est ouvert. \n\n\n\nDeux heures d’échanges autour d’un café (ou d’un thé !)\, animés par des membres du CA de EFA01 accompagnés par Céline Moyenin\, psychologue\, autour de thèmes vairés : démarches administratives\, accueil de l’enfant\, difficultés rencontrées\, etc. \n  \n⚠️ Nous vous demanderons de bien vouloir venir à l’heure car les portes de l’UDAF seront fermées à partir de 10h15 pour la sécurité de tous. \n⚠️ Nous serons dans une salle sans réseau et nous ne pourrons pas répondre aux demandes de participants qui trouveraient porte close. \n 
URL:https://adoption-efa01.org/index.php/event/cafe-adoption-efa01-13-12-2025/
LOCATION:UDAF Bourg en Bresse\, rue de la liberte\, Bourg-en-Bresse\, 01000\, France
CATEGORIES:Café adoption
END:VEVENT
BEGIN:VEVENT
DTSTART;TZID=Europe/Paris:20251129T090000
DTEND;TZID=Europe/Paris:20251129T163000
DTSTAMP:20260425T154246
CREATED:20250917T114323Z
LAST-MODIFIED:20250917T114809Z
UID:437-1764406800-1764433800@adoption-efa01.org
SUMMARY:Journée de formation - Accueil enfant grand - 29/09/2025
DESCRIPTION:EFA 01 vous propose une nouvelle journée de formation sur l’accueil d’un enfant grand (+ de 3 ans). Cette journée de formation se déroulera en présentiel\, à la MCC de Bourg-en-Bresse\, le samedi 29 novembre 2025 de 9h30 à 16h30\, avec une pause le midi pour un repas sur place*. \n\n\n\nVenez réfléchir sur votre définition de ce qu’est un enfant grand au travers d’échanges et d’ateliers conviviaux. \nCette journée de formation sera animée par Géraldine Loussel\, formatrice\, travaillant dans le domaine de la protection de l’enfance et de l’adoption\, et Maribelle Belouzard\, membre du bureau d’EFA01 ayant adopté deux enfants grands. Participez à cette journée pour en apprendre plus et vous préparer à accueillir votre enfant avec tout son vécu pré-adoption. \nPensez à vous munir de votre billet (envoyé par mail)\, il vous sera demandé à l’entrée. \n  \n* Le repas du midi se prendra sur place. Chacun apportera son repas\, sans oublier assiettes\, verre et couverts. \n\n\n\n  \n			\n\n 
URL:https://adoption-efa01.org/index.php/event/journee-de-formation-accueil-enfant-grand-27-09-2025/
LOCATION:MCC de Bourg-en-Bresse\, 4 allée des brotteaux\, Bourg-en-Bresse\, Sélectionner un État :\, 01000\, France
CATEGORIES:Conférence
END:VEVENT
BEGIN:VEVENT
DTSTART;TZID=Europe/Paris:20251127T200000
DTEND;TZID=Europe/Paris:20251127T220000
DTSTAMP:20260425T154246
CREATED:20250917T114611Z
LAST-MODIFIED:20250917T114611Z
UID:487-1764273600-1764280800@adoption-efa01.org
SUMMARY:Soirée Théâtre : "C'était comment\, quand j'étais dans ton ventre ?"
DESCRIPTION:
URL:https://adoption-efa01.org/index.php/event/soiree-theatre-cetait-comment-quand-jetais-dans-ton-ventre/
LOCATION:Auditorium de Péronnas\, 165 Chemin du Stade\, Péronnas\, 01960\, France
END:VEVENT
BEGIN:VEVENT
DTSTART;TZID=Europe/Paris:20251115T100000
DTEND;TZID=Europe/Paris:20251115T120000
DTSTAMP:20260425T154246
CREATED:20250409T061529Z
LAST-MODIFIED:20250409T061728Z
UID:443-1763200800-1763208000@adoption-efa01.org
SUMMARY:Café adoption - EFA01 - 15/11/2025
DESCRIPTION:Café Adoption 15 novembre 2025\n Venez rencontrer les membres de EFA01 et échanger autour de l’adoption le samedi 15 novembre 2025 de 10h à 12h. Que vous soyez en réflexion sur votre projet d’adoption\, postulant.e.s agréé.e.s ou en cours d’agrément\, ou déjà parent.s\, cet espace d’échange bienveillant vous est ouvert. \n\n\n\nDeux heures d’échanges autour d’un café (ou d’un thé !)\, animés par des membres du CA de EFA01 accompagnés par Céline Moyenin\, psychologue\, autour de thèmes vairés : démarches administratives\, accueil de l’enfant\, difficultés rencontrées\, etc. \n⚠️ Nous vous demanderons de bien vouloir venir à l’heure car les portes de l’UDAF seront fermées à partir de 10h15 pour la sécurité de tous. \n⚠️ Nous serons dans une salle sans réseau et nous ne pourrons pas répondre aux demandes de participants qui trouveraient porte close. \n\n\n\n  \n  \n 
URL:https://adoption-efa01.org/index.php/event/cafe-adoption-efa01-15-11-2025/
LOCATION:UDAF Bourg en Bresse\, rue de la liberte\, Bourg-en-Bresse\, 01000\, France
CATEGORIES:Café adoption
END:VEVENT
BEGIN:VEVENT
DTSTART;TZID=Europe/Paris:20251004T100000
DTEND;TZID=Europe/Paris:20251004T120000
DTSTAMP:20260425T154246
CREATED:20250409T060948Z
LAST-MODIFIED:20250409T061017Z
UID:441-1759572000-1759579200@adoption-efa01.org
SUMMARY:Café adoption - EFA01 - 04/10/2025
DESCRIPTION:Café Adoption 4 octobre 2025\n Venez rencontrer les membres de EFA01 et échanger autour de l’adoption le samedi 4 Octobre 2025 de 10h à 12h. Que vous soyez en réflexion sur votre projet d’adoption\, postulant.e.s agréé.e.s ou en cours d’agrément\, ou déjà parent.s\, cet espace d’échange bienveillant vous est ouvert. \n\n\n\nDeux heures d’échanges autour d’un café (ou d’un thé !)\, animés par des membres du CA de EFA01 accompagnés par Céline Moyenin\, psychologue\, autour de thèmes vairés : démarches administratives\, accueil de l’enfant\, difficultés rencontrées\, etc. \n  \n⚠️ Nous vous demanderons de bien vouloir venir à l’heure car les portes de l’UDAF seront fermées à partir de 10h15 pour la sécurité de tous. \n⚠️ Nous serons dans une salle sans réseau et nous ne pourrons pas répondre aux demandes de participants qui trouveraient porte close. \n  \n 
URL:https://adoption-efa01.org/index.php/event/cafe-adoption-efa01-04-10-2025/
LOCATION:UDAF Bourg en Bresse\, rue de la liberte\, Bourg-en-Bresse\, 01000\, France
CATEGORIES:Café adoption
END:VEVENT
BEGIN:VEVENT
DTSTART;TZID=Europe/Paris:20250914T100000
DTEND;TZID=Europe/Paris:20250914T160000
DTSTAMP:20260425T154246
CREATED:20250409T061010Z
LAST-MODIFIED:20250409T061010Z
UID:433-1757844000-1757865600@adoption-efa01.org
SUMMARY:Piquenique annuel - 14/09/2025
DESCRIPTION:  \n \nEFA01 a le plaisir de vous inviter à son traditionnel pique-nique de septembre ! \nVenez passer un bon moment autour d’un pique-nique type « Auberge espagnole » (chacun amène un plat et/ou une boisson à partager). Le matin\, à partir de 10h\, venez écouter le témoignage d’adhérents ayant récemment été apparentés. Puis nous partagerons un apéritif* offert par EFA01\, et un pique-nique dans la bonne humeur ! \n\n\n\nLes enfants sont les bienvenus\, une aire de jeu et des animations seront prévues rien que pour eux\, sans oublier la traditionnelle piñata !Afin que nous puissions préparer leur accueil\, merci de préciser leur nombre et leur âge lors de votre inscription. \n  \n* L’abus d’alcool est dangereux pour la santé\, à consommer avec modération. \n  \n\n\n\n			\n\n 
URL:https://adoption-efa01.org/index.php/event/piquenique-annuel-14-09-2025/
LOCATION:Centre Socioculturel La Passerelle\, rue des peupliers\, chatillon-sur-chalaronne\, 01400\, France
CATEGORIES:Évènement EFA
END:VEVENT
BEGIN:VEVENT
DTSTART;TZID=Europe/Paris:20250517T100000
DTEND;TZID=Europe/Paris:20250517T120000
DTSTAMP:20260425T154246
CREATED:20240928T073152Z
LAST-MODIFIED:20241214T101421Z
UID:368-1747476000-1747483200@adoption-efa01.org
SUMMARY:Café adoption - EFA01 - 17/05/2025
DESCRIPTION:Venez rencontrer les membres de EFA01 et échanger autour de l’adoption le samedi 17 mai 2025 de 10h à 12h. Que vous soyez en réflexion sur votre projet d’adoption\, postulant.e.s agréé.e.s ou en cours d’agrément\, ou déjà parent.s\, cet espace d’échange bienveillant vous est ouvert. Deux heures d’échanges autour d’un café (ou d’un thé !)\, animés par des membres du CA de EFA01 autour de thèmes vairés : démarches administratives\, accueil de l’enfant\, difficultés rencontrées\, etc. \n 
URL:https://adoption-efa01.org/index.php/event/cafe-adoption-efa01-17-05-2024/
LOCATION:UDAF Bourg en Bresse\, rue de la liberte\, Bourg-en-Bresse\, 01000\, France
CATEGORIES:Café adoption
END:VEVENT
BEGIN:VEVENT
DTSTART;TZID=Europe/Paris:20250404T193000
DTEND;TZID=Europe/Paris:20250404T213000
DTSTAMP:20260425T154246
CREATED:20250104T085705Z
LAST-MODIFIED:20250214T141308Z
UID:376-1743795000-1743802200@adoption-efa01.org
SUMMARY:Conférence sur le thème "Mieux vivre l'attente" - 04/04/2025
DESCRIPTION:Venez assister à la conférence sur le thème « Mieux vivre l’attente »\, animée par Céline Moyenin\, psychologue. Deux heures d’échanges autour des différents moyens pour vivre plus sereinement l’attente avant un apparentement.
URL:https://adoption-efa01.org/index.php/event/conference-sur-le-theme-mieux-vivre-lattente-04-04-2025/
LOCATION:MCC de Bourg-en-Bresse\, 4 allée des brotteaux\, Bourg-en-Bresse\, Sélectionner un État :\, 01000\, France
CATEGORIES:Conférence
END:VEVENT
BEGIN:VEVENT
DTSTART;TZID=Europe/Paris:20250329T140000
DTEND;TZID=Europe/Paris:20250329T160000
DTSTAMP:20260425T154246
CREATED:20240928T075850Z
LAST-MODIFIED:20250301T104152Z
UID:371-1743256800-1743264000@adoption-efa01.org
SUMMARY:Assemblée générale - EFA 01 - 29/03/2025
DESCRIPTION:EFA 01 tiendra son assemblée générale le 29/03/2025 à 14h30. \nDes informations supplémentaires sur cet évènement arriveront bientôt !
URL:https://adoption-efa01.org/index.php/event/assemblee-generale-efa-01-29-03-2024/
LOCATION:UDAF Bourg en Bresse\, rue de la liberte\, Bourg-en-Bresse\, 01000\, France
CATEGORIES:Assemblée générale
END:VEVENT
BEGIN:VEVENT
DTSTART;TZID=Europe/Paris:20250329T100000
DTEND;TZID=Europe/Paris:20250329T120000
DTSTAMP:20260425T154246
CREATED:20240928T073027Z
LAST-MODIFIED:20241214T101328Z
UID:366-1743242400-1743249600@adoption-efa01.org
SUMMARY:Café adoption - EFA01 - 29/03/2025
DESCRIPTION:Venez rencontrer les membres de EFA01 et échanger autour de l’adoption le samedi 29 mars 2025 de 10h à 12h. Que vous soyez en réflexion sur votre projet d’adoption\, postulant.e.s agréé.e.s ou en cours d’agrément\, ou déjà parent.s\, cet espace d’échange bienveillant vous est ouvert. Deux heures d’échanges autour d’un café (ou d’un thé !)\, animés par des membres du CA de EFA01 autour de thèmes vairés : démarches administratives\, accueil de l’enfant\, difficultés rencontrées\, etc.
URL:https://adoption-efa01.org/index.php/event/cafe-adoption-efa01-28-03-2024/
LOCATION:UDAF Bourg en Bresse\, rue de la liberte\, Bourg-en-Bresse\, 01000\, France
CATEGORIES:Café adoption
END:VEVENT
BEGIN:VEVENT
DTSTART;TZID=Europe/Paris:20250215T100000
DTEND;TZID=Europe/Paris:20250215T120000
DTSTAMP:20260425T154246
CREATED:20240928T072846Z
LAST-MODIFIED:20241214T101452Z
UID:363-1739613600-1739620800@adoption-efa01.org
SUMMARY:Café adoption - EFA01 - 15/02/2025
DESCRIPTION:  \nVenez rencontrer les membres de EFA01 et échanger autour de l’adoption le samedi 15 février 2025 de 10h à 12h. Que vous soyez en réflexion sur votre projet d’adoption\, postulant.e.s agréé.e.s ou en cours d’agrément\, ou déjà parent.s\, cet espace d’échange bienveillant vous est ouvert. Deux heures d’échanges autour d’un café (ou d’un thé !)\, animés par des membres du CA de EFA01 autour de thèmes vairés : démarches administratives\, accueil de l’enfant\, difficultés rencontrées\, etc.
URL:https://adoption-efa01.org/index.php/event/cafe-adoption-efa01-15-02-2024/
LOCATION:UDAF Bourg en Bresse\, rue de la liberte\, Bourg-en-Bresse\, 01000\, France
CATEGORIES:Café adoption
END:VEVENT
BEGIN:VEVENT
DTSTART;TZID=Europe/Paris:20250208T090000
DTEND;TZID=Europe/Paris:20250208T163000
DTSTAMP:20260425T154246
CREATED:20250106T124546Z
LAST-MODIFIED:20250106T124646Z
UID:400-1739005200-1739032200@adoption-efa01.org
SUMMARY:Journée de formation sur l'accueil d'un enfant grand - 08/02/2025
DESCRIPTION:EFA 01 vous propose une nouvelle journée de formation sur l’accueil d’un enfant grand (+ de 3 ans). Cette journée de formation se déroulera en présentiel\, à la MCC de Bourg-en-Bresse\, le samedi 8 février 2025 de 9h30 à 16h30\, avec une pause le midi pour un repas sur place*. \n\n\n\nSi votre projet est ouvert à l’accueil d’un enfant de plus de 3 ans\, participez à cette journée pour en apprendre plus et vous préparer à accueillir un enfant avec tout son vécu pré-adoption. \nCette journée de formation sera animée par Géraldine Loussel\, formatrice\, travaillant dans le domaine de la protection de l’enfance et de l’adoption. Participez à cette journée pour en apprendre plus et vous préparer à accueillir votre enfant avec tout son vécu pré-adoption. \nPensez à vous munir de votre billet (envoyé par mail)\, il vous sera demandé à l’entrée. \n  \n* Le repas du midi se prendra sur place. Chacun apportera son repas\, sans oublier assiettes\, verre et couverts.
URL:https://adoption-efa01.org/index.php/event/journee-de-formation-sur-laccueil-dun-enfant-grand-08-02-2025/
LOCATION:MCC de Bourg-en-Bresse\, 4 allée des brotteaux\, Bourg-en-Bresse\, Sélectionner un État :\, 01000\, France
END:VEVENT
BEGIN:VEVENT
DTSTART;TZID=Europe/Paris:20250111T100000
DTEND;TZID=Europe/Paris:20250111T120000
DTSTAMP:20260425T154246
CREATED:20240928T072601Z
LAST-MODIFIED:20240928T072601Z
UID:361-1736589600-1736596800@adoption-efa01.org
SUMMARY:Café adoption - EFA01 - 11/01/2025
DESCRIPTION:Venez rencontrer les membres de EFA01 et échanger autour de l’adoption le samedi 11 janvier 2025 de 10h à 12h. Que vous soyez en réflexion sur votre projet d’adoption\, postulant.e.s agréé.e.s ou en cours d’agrément\, ou déjà parent.s\, cet espace d’échange bienveillant vous est ouvert. Deux heures d’échanges autour d’un café (ou d’un thé !)\, animés par des membres du CA de EFA01 autour de thèmes vairés : démarches administratives\, accueil de l’enfant\, difficultés rencontrées\, etc.
URL:https://adoption-efa01.org/index.php/event/cafe-adoption-efa01-11-01-2025/
LOCATION:UDAF Bourg en Bresse\, rue de la liberte\, Bourg-en-Bresse\, 01000\, France
CATEGORIES:Café adoption
END:VEVENT
BEGIN:VEVENT
DTSTART;TZID=Europe/Paris:20241130T100000
DTEND;TZID=Europe/Paris:20241130T120000
DTSTAMP:20260425T154246
CREATED:20240928T071950Z
LAST-MODIFIED:20241014T094056Z
UID:349-1732960800-1732968000@adoption-efa01.org
SUMMARY:Café adoption - EFA01 - 30/11/2024
DESCRIPTION:Venez rencontrer les membres de EFA01 et échanger autour de l’adoption le samedi 30 Novembre 2024 de 10h à 12h. Que vous soyez en réflexion sur votre projet d’adoption\, postulant(e) agréé(e) ou en cours d’agrément\, ou déjà parent\, cet espace d’échange bienveillant vous est ouvert. Deux heures d’échanges autour d’un café (ou d’un thé !)\, animés par des membres du CA de EFA01 autour de thèmes vairés : démarches administratives\, accueil de l’enfant\, difficultés rencontrées\, etc.
URL:https://adoption-efa01.org/index.php/event/cafe-adoption/
LOCATION:UDAF Bourg en Bresse\, rue de la liberte\, Bourg-en-Bresse\, 01000\, France
CATEGORIES:Café adoption
END:VEVENT
END:VCALENDAR