BEGIN:VCALENDAR
VERSION:2.0
PRODID:-//EFA 01 - ECPv6.15.20//NONSGML v1.0//EN
CALSCALE:GREGORIAN
METHOD:PUBLISH
X-ORIGINAL-URL:https://adoption-efa01.org
X-WR-CALDESC:Évènements pour EFA 01
REFRESH-INTERVAL;VALUE=DURATION:PT1H
X-Robots-Tag:noindex
X-PUBLISHED-TTL:PT1H
BEGIN:VTIMEZONE
TZID:Europe/Paris
BEGIN:DAYLIGHT
TZOFFSETFROM:+0100
TZOFFSETTO:+0200
TZNAME:CEST
DTSTART:20240331T010000
END:DAYLIGHT
BEGIN:STANDARD
TZOFFSETFROM:+0200
TZOFFSETTO:+0100
TZNAME:CET
DTSTART:20241027T010000
END:STANDARD
BEGIN:DAYLIGHT
TZOFFSETFROM:+0100
TZOFFSETTO:+0200
TZNAME:CEST
DTSTART:20250330T010000
END:DAYLIGHT
BEGIN:STANDARD
TZOFFSETFROM:+0200
TZOFFSETTO:+0100
TZNAME:CET
DTSTART:20251026T010000
END:STANDARD
BEGIN:DAYLIGHT
TZOFFSETFROM:+0100
TZOFFSETTO:+0200
TZNAME:CEST
DTSTART:20260329T010000
END:DAYLIGHT
BEGIN:STANDARD
TZOFFSETFROM:+0200
TZOFFSETTO:+0100
TZNAME:CET
DTSTART:20261025T010000
END:STANDARD
END:VTIMEZONE
BEGIN:VEVENT
DTSTART;TZID=Europe/Paris:20250329T140000
DTEND;TZID=Europe/Paris:20250329T160000
DTSTAMP:20260422T000942
CREATED:20240928T075850Z
LAST-MODIFIED:20250301T104152Z
UID:371-1743256800-1743264000@adoption-efa01.org
SUMMARY:Assemblée générale - EFA 01 - 29/03/2025
DESCRIPTION:EFA 01 tiendra son assemblée générale le 29/03/2025 à 14h30. \nDes informations supplémentaires sur cet évènement arriveront bientôt !
URL:https://adoption-efa01.org/index.php/event/assemblee-generale-efa-01-29-03-2024/
LOCATION:UDAF Bourg en Bresse\, rue de la liberte\, Bourg-en-Bresse\, 01000\, France
CATEGORIES:Assemblée générale
END:VEVENT
END:VCALENDAR